BEGIN:VCALENDAR
VERSION:2.0
PRODID:-// - ECPv4.1.3//NONSGML v1.0//EN
CALSCALE:GREGORIAN
METHOD:PUBLISH
X-WR-CALNAME:
X-ORIGINAL-URL:http://raster-beton.de/en
X-WR-CALDESC:Events for 
BEGIN:VEVENT
DTSTART;TZID=Europe/Berlin:20160522T110000
DTEND;TZID=Europe/Berlin:20160522T150000
DTSTAMP:20260424T190813
CREATED:20160408T065813
LAST-MODIFIED:20160408T065813
UID:281-1463914800-1463929200@raster-beton.de
SUMMARY:Workshop Folke Köbberling
DESCRIPTION:Die Künstlerin Folke Köbberling entwickelt zusammen mit Bewohner_innen eine zeitgenössische Interpretation einer Plattenbaufassade mit orientalischer Ornamentik in Wachs.\nBitte mitbringen:ausgewaschene Joghurtbecher\, Flaschen\, Frischkäsebehälter... (wird zum Gießen der Formen in Wachs benötigt)\nWo: Alte Salzstraße 60
URL:http://raster-beton.de/en/event/workshop-folke-koebberling-3/
END:VEVENT
END:VCALENDAR